BEGIN:VCALENDAR
VERSION:2.0
PRODID:-//Elim Tabernacle - ECPv6.15.12.2//NONSGML v1.0//EN
CALSCALE:GREGORIAN
METHOD:PUBLISH
X-WR-CALNAME:Elim Tabernacle
X-ORIGINAL-URL:https://elimtabernacle.net
X-WR-CALDESC:Events for Elim Tabernacle
REFRESH-INTERVAL;VALUE=DURATION:PT1H
X-Robots-Tag:noindex
X-PUBLISHED-TTL:PT1H
BEGIN:VTIMEZONE
TZID:UTC
BEGIN:STANDARD
TZOFFSETFROM:+0000
TZOFFSETTO:+0000
TZNAME:UTC
DTSTART:20240101T000000
END:STANDARD
END:VTIMEZONE
BEGIN:VEVENT
DTSTART;TZID=UTC:20260214T100000
DTEND;TZID=UTC:20260214T110000
DTSTAMP:20260423T123233
CREATED:20260122T113615Z
LAST-MODIFIED:20260122T113644Z
UID:880-1771063200-1771066800@elimtabernacle.net
SUMMARY:Ladies Coffee at Klippers Cafe
DESCRIPTION:Ladies Coffee at Klippers Cafe 10:00am-11:00am
URL:https://elimtabernacle.net/event/ladies-coffee-at-klippers-cafe/
CATEGORIES:Woman
ATTACH;FMTTYPE=image/jpeg:https://elimtabernacle.net/wp-content/uploads/2026/01/1000006496.jpg
END:VEVENT
BEGIN:VEVENT
DTSTART;TZID=UTC:20260118T100000
DTEND;TZID=UTC:20260118T113000
DTSTAMP:20260423T123233
CREATED:20251127T101821Z
LAST-MODIFIED:20260115T233625Z
UID:340-1768730400-1768735800@elimtabernacle.net
SUMMARY:Sunday Services – Every Week at 10:00 AM | 11:30 AM
DESCRIPTION:Join us as we worship together\, study God’s Word\, and fellowship as a church family.
URL:https://elimtabernacle.net/event/sunday-services-every-week-at-1000-am/
CATEGORIES:Church Events & Monthly Happenings
ATTACH;FMTTYPE=image/png:https://elimtabernacle.net/wp-content/uploads/2025/11/pastor-dan.png
END:VEVENT
BEGIN:VEVENT
DTSTART;VALUE=DATE:20251201
DTEND;VALUE=DATE:20251202
DTSTAMP:20260423T123233
CREATED:20251127T102601Z
LAST-MODIFIED:20260115T233523Z
UID:346-1764547200-1764633599@elimtabernacle.net
SUMMARY:Community Fellowship Sunday
DESCRIPTION:A time of food and fellowship after the morning service. Everyone welcome! Next date coming soon.
URL:https://elimtabernacle.net/event/community-fellowship-sunday/
CATEGORIES:Church Events & Monthly Happenings
ATTACH;FMTTYPE=image/jpeg:https://elimtabernacle.net/wp-content/uploads/2025/11/smiling-african-american-woman-in-boho-outfit-medi-2024-11-10-04-16-15-utc.jpg
END:VEVENT
BEGIN:VEVENT
DTSTART;VALUE=DATE:20251130
DTEND;VALUE=DATE:20251201
DTSTAMP:20260423T123233
CREATED:20251127T102244Z
LAST-MODIFIED:20260115T233659Z
UID:343-1764460800-1764547199@elimtabernacle.net
SUMMARY:Monthly Prayer Night
DESCRIPTION:A special evening dedicated to prayer\, worship\, and seeking God together. Date will be posted monthly.
URL:https://elimtabernacle.net/event/monthly-prayer-night/
CATEGORIES:Church Events & Monthly Happenings
ATTACH;FMTTYPE=image/jpeg:https://elimtabernacle.net/wp-content/uploads/2025/11/family-praying-before-dinner-at-home-2025-02-11-18-45-23-utc.jpg
END:VEVENT
END:VCALENDAR